Python RemoteMethodSchema.checkResults - 2 examples found. These are the top rated real world Python examples of foolscap.remoteinterface.RemoteMethodSchema.checkResults extracted from open source projects. You can rate examples to help us improve the quality of examples.